BEGIN:VCALENDAR
VERSION:2.0
PRODID:-//Exotic Car Marketplace - ECPv6.15.20//NONSGML v1.0//EN
CALSCALE:GREGORIAN
METHOD:PUBLISH
X-WR-CALNAME:Exotic Car Marketplace
X-ORIGINAL-URL:https://exoticcarmarketplace.com
X-WR-CALDESC:Events for Exotic Car Marketplace
REFRESH-INTERVAL;VALUE=DURATION:PT1H
X-Robots-Tag:noindex
X-PUBLISHED-TTL:PT1H
BEGIN:VTIMEZONE
TZID:UTC
BEGIN:STANDARD
TZOFFSETFROM:+0000
TZOFFSETTO:+0000
TZNAME:UTC
DTSTART:20250101T000000
END:STANDARD
END:VTIMEZONE
BEGIN:VEVENT
DTSTART;VALUE=DATE:20260424
DTEND;VALUE=DATE:20260427
DTSTAMP:20260423T115412
CREATED:20260411T110246Z
LAST-MODIFIED:20260411T110246Z
UID:3508-1776988800-1777247999@exoticcarmarketplace.com
SUMMARY:La Jolla Concours d’Elegance
DESCRIPTION:
URL:https://exoticcarmarketplace.com/event/la-jolla-concours-delegance/
LOCATION:Ellen Browning Scripps Park\, La Jolla\, CA\, United States
CATEGORIES:Concours
ATTACH;FMTTYPE=image/webp:https://exoticcarmarketplace.com/wp-content/uploads/2026/04/LJCDE-Logo-Bios.webp
END:VEVENT
BEGIN:VEVENT
DTSTART;VALUE=DATE:20260425
DTEND;VALUE=DATE:20260427
DTSTAMP:20260423T115412
CREATED:20260411T110441Z
LAST-MODIFIED:20260411T110441Z
UID:3512-1777075200-1777247999@exoticcarmarketplace.com
SUMMARY:Keels & Wheels Concours d’Elegance
DESCRIPTION:
URL:https://exoticcarmarketplace.com/event/keels-wheels-concours-delegance/
LOCATION:Lakewood Yacht Club\, Seabrook\, TX\, United States
CATEGORIES:Concours
ATTACH;FMTTYPE=image/webp:https://exoticcarmarketplace.com/wp-content/uploads/2026/04/KW-2011-logo_blue-gray_600x1200.webp
END:VEVENT
BEGIN:VEVENT
DTSTART;VALUE=DATE:20260501
DTEND;VALUE=DATE:20260504
DTSTAMP:20260423T115412
CREATED:20260411T110711Z
LAST-MODIFIED:20260414T172045Z
UID:3517-1777593600-1777852799@exoticcarmarketplace.com
SUMMARY:The Greenbrier Concours d’Elegance
DESCRIPTION:
URL:https://exoticcarmarketplace.com/event/the-greenbrier-concours-delegance/
LOCATION:The Greenbrier\, White Sulphur Springs\, WV\, United States
CATEGORIES:Concours
ATTACH;FMTTYPE=image/png:https://exoticcarmarketplace.com/wp-content/uploads/2026/04/concours-sponsor-logo-key-v3-textured.png
END:VEVENT
BEGIN:VEVENT
DTSTART;VALUE=DATE:20260501
DTEND;VALUE=DATE:20260504
DTSTAMP:20260423T115412
CREATED:20260411T110855Z
LAST-MODIFIED:20260411T110855Z
UID:3522-1777593600-1777852799@exoticcarmarketplace.com
SUMMARY:The Atlanta Motoring Festival & Concours d’Elegance
DESCRIPTION:
URL:https://exoticcarmarketplace.com/event/the-atlanta-motoring-festival-concours-delegance/
LOCATION:Lanier Islands Resort\, Buford\, GA\, United States
CATEGORIES:Concours
ATTACH;FMTTYPE=image/png:https://exoticcarmarketplace.com/wp-content/uploads/2026/04/logo_light.png
END:VEVENT
BEGIN:VEVENT
DTSTART;VALUE=DATE:20260517
DTEND;VALUE=DATE:20260518
DTSTAMP:20260423T115412
CREATED:20260411T111029Z
LAST-MODIFIED:20260414T172050Z
UID:3526-1778976000-1779062399@exoticcarmarketplace.com
SUMMARY:The Old Town Festival of Speed & Style
DESCRIPTION:
URL:https://exoticcarmarketplace.com/event/the-old-town-festival-of-speed-style/
LOCATION:Old Town\, Alexandria\, VA\, United States
CATEGORIES:Concours
ATTACH;FMTTYPE=image/webp:https://exoticcarmarketplace.com/wp-content/uploads/2026/04/OIP-1.webp
END:VEVENT
BEGIN:VEVENT
DTSTART;VALUE=DATE:20260522
DTEND;VALUE=DATE:20260525
DTSTAMP:20260423T115412
CREATED:20260411T111210Z
LAST-MODIFIED:20260414T172055Z
UID:3530-1779408000-1779667199@exoticcarmarketplace.com
SUMMARY:Sandhills Motoring Expo
DESCRIPTION:
URL:https://exoticcarmarketplace.com/event/sandhills-motoring-expo/
LOCATION:Village of Pinehurst\, NC\, United States
CATEGORIES:Concours
ATTACH;FMTTYPE=image/png:https://exoticcarmarketplace.com/wp-content/uploads/2026/04/SME-Logo-2024-small.png
END:VEVENT
BEGIN:VEVENT
DTSTART;VALUE=DATE:20260529
DTEND;VALUE=DATE:20260601
DTSTAMP:20260423T115412
CREATED:20260411T111413Z
LAST-MODIFIED:20260411T111413Z
UID:3534-1780012800-1780271999@exoticcarmarketplace.com
SUMMARY:Greenwich Concours d’Elegance
DESCRIPTION:
URL:https://exoticcarmarketplace.com/event/greenwich-concours-delegance/
LOCATION:Roger Sherman Baldwin Park\, Greenwich\, CT\, United States
CATEGORIES:Concours
ATTACH;FMTTYPE=image/avif:https://exoticcarmarketplace.com/wp-content/uploads/2026/04/greenwich_concours_brand_logo_4x.avif
END:VEVENT
BEGIN:VEVENT
DTSTART;VALUE=DATE:20260606
DTEND;VALUE=DATE:20260608
DTSTAMP:20260423T115412
CREATED:20260412T092558Z
LAST-MODIFIED:20260414T172104Z
UID:3539-1780704000-1780876799@exoticcarmarketplace.com
SUMMARY:Philadelphia Concours d’Elegance
DESCRIPTION:
URL:https://exoticcarmarketplace.com/event/philadelphia-concours-delegance/
LOCATION:The Union League Liberty Hill\, Lafayette Hill\, PA\, United States
CATEGORIES:Concours
ATTACH;FMTTYPE=image/jpeg:https://exoticcarmarketplace.com/wp-content/uploads/2026/04/Philadelphia-Concours.jpg
END:VEVENT
BEGIN:VEVENT
DTSTART;VALUE=DATE:20260611
DTEND;VALUE=DATE:20260615
DTSTAMP:20260423T115412
CREATED:20260412T092802Z
LAST-MODIFIED:20260414T172200Z
UID:3544-1781136000-1781481599@exoticcarmarketplace.com
SUMMARY:Highlands Motoring Festival
DESCRIPTION:
URL:https://exoticcarmarketplace.com/event/highlands-motoring-festival/
LOCATION:Kelsey-Hutchinson Founders Park\, Highlands\, NC\, United States
CATEGORIES:Concours
ATTACH;FMTTYPE=image/webp:https://exoticcarmarketplace.com/wp-content/uploads/2026/04/HMF-NEW-LOGO-With-Reg-No-LAYERS_-002.webp
END:VEVENT
BEGIN:VEVENT
DTSTART;VALUE=DATE:20260613
DTEND;VALUE=DATE:20260615
DTSTAMP:20260423T115412
CREATED:20260412T092943Z
LAST-MODIFIED:20260412T092943Z
UID:3548-1781308800-1781481599@exoticcarmarketplace.com
SUMMARY:San Marino Motor Classic
DESCRIPTION:
URL:https://exoticcarmarketplace.com/event/san-marino-motor-classic/
LOCATION:Lacy Park\, San Marino\, CA\, United States
CATEGORIES:Concours
ATTACH;FMTTYPE=image/png:https://exoticcarmarketplace.com/wp-content/uploads/2026/04/images.png
END:VEVENT
BEGIN:VEVENT
DTSTART;VALUE=DATE:20260614
DTEND;VALUE=DATE:20260615
DTSTAMP:20260423T115412
CREATED:20260412T093129Z
LAST-MODIFIED:20260414T172151Z
UID:3552-1781395200-1781481599@exoticcarmarketplace.com
SUMMARY:Cincinnati Concours d’Elegance
DESCRIPTION:
URL:https://exoticcarmarketplace.com/event/cincinnati-concours-delegance/
LOCATION:Ault Park\, Cincinnati\, OH\, United States
CATEGORIES:Concours
ATTACH;FMTTYPE=image/jpeg:https://exoticcarmarketplace.com/wp-content/uploads/2026/04/images2.jpg
END:VEVENT
BEGIN:VEVENT
DTSTART;VALUE=DATE:20260621
DTEND;VALUE=DATE:20260622
DTSTAMP:20260423T115412
CREATED:20260412T093302Z
LAST-MODIFIED:20260412T093302Z
UID:3556-1782000000-1782086399@exoticcarmarketplace.com
SUMMARY:Rodeo Drive Concours d’Elegance
DESCRIPTION:
URL:https://exoticcarmarketplace.com/event/rodeo-drive-concours-delegance/
LOCATION:Rodeo Drive\, Beverly Hills\, CA\, United States
CATEGORIES:Concours
ATTACH;FMTTYPE=image/png:https://exoticcarmarketplace.com/wp-content/uploads/2026/04/Rodeo-Drive-Car-Show.png
END:VEVENT
BEGIN:VEVENT
DTSTART;VALUE=DATE:20260628
DTEND;VALUE=DATE:20260629
DTSTAMP:20260423T115412
CREATED:20260412T093441Z
LAST-MODIFIED:20260412T093441Z
UID:3560-1782604800-1782691199@exoticcarmarketplace.com
SUMMARY:Hillsborough Concours d’Elegance
DESCRIPTION:
URL:https://exoticcarmarketplace.com/event/hillsborough-concours-delegance/
LOCATION:Crystal Springs Golf Course\, Burlingame\, CA\, United States
CATEGORIES:Concours
ATTACH;FMTTYPE=image/jpeg:https://exoticcarmarketplace.com/wp-content/uploads/2026/04/images3.jpg
END:VEVENT
BEGIN:VEVENT
DTSTART;VALUE=DATE:20260710
DTEND;VALUE=DATE:20260713
DTSTAMP:20260423T115412
CREATED:20260412T093628Z
LAST-MODIFIED:20260412T093628Z
UID:3564-1783641600-1783900799@exoticcarmarketplace.com
SUMMARY:Northville Concours d’Elegance
DESCRIPTION:
URL:https://exoticcarmarketplace.com/event/northville-concours-delegance/
LOCATION:Mill Race Historical Village\, Northville\, MI\, United States
CATEGORIES:Concours
ATTACH;FMTTYPE=image/jpeg:https://exoticcarmarketplace.com/wp-content/uploads/2026/04/https___cdn.evbuc_.com_images_641165769_1300143096513_1_original.jpg
END:VEVENT
BEGIN:VEVENT
DTSTART;VALUE=DATE:20260710
DTEND;VALUE=DATE:20260713
DTSTAMP:20260423T115412
CREATED:20260420T153859Z
LAST-MODIFIED:20260420T153915Z
UID:3687-1783641600-1783900799@exoticcarmarketplace.com
SUMMARY:Concours at Copshaholm
DESCRIPTION:Set on the grounds of Copshaholm\, a 38-room estate built between 1895 and 1896\, the Concours at Copshaholm is a two-day festival of all things automotive hosted by the National Studebaker Museum. Learn more.
URL:https://exoticcarmarketplace.com/event/concours-at-copshaholm/
LOCATION:Copshaholm Mansion\, South Bend\, IN\, United States
CATEGORIES:Concours
ATTACH;FMTTYPE=image/png:https://exoticcarmarketplace.com/wp-content/uploads/2026/04/Picture1.png
END:VEVENT
BEGIN:VEVENT
DTSTART;VALUE=DATE:20260712
DTEND;VALUE=DATE:20260713
DTSTAMP:20260423T115412
CREATED:20260412T093809Z
LAST-MODIFIED:20260414T172143Z
UID:3568-1783814400-1783900799@exoticcarmarketplace.com
SUMMARY:Concours on The Palisades
DESCRIPTION:
URL:https://exoticcarmarketplace.com/event/concours-on-the-palisades/
LOCATION:Downtown Fort Lee\, Fort Lee\, NJ\, United States
CATEGORIES:Concours
ATTACH;FMTTYPE=image/jpeg:https://exoticcarmarketplace.com/wp-content/uploads/2026/04/FT-Lee-Car-Show-Post.jpg
END:VEVENT
BEGIN:VEVENT
DTSTART;VALUE=DATE:20260717
DTEND;VALUE=DATE:20260720
DTSTAMP:20260423T115412
CREATED:20260412T093957Z
LAST-MODIFIED:20260412T093957Z
UID:3572-1784246400-1784505599@exoticcarmarketplace.com
SUMMARY:Misselwood Concours d’Elegance
DESCRIPTION:
URL:https://exoticcarmarketplace.com/event/misselwood-concours-delegance/
LOCATION:The Misselwood Estate\, Beverly\, MA\, United States
CATEGORIES:Concours
ATTACH;FMTTYPE=image/jpeg:https://exoticcarmarketplace.com/wp-content/uploads/2026/04/images4.jpg
END:VEVENT
BEGIN:VEVENT
DTSTART;VALUE=DATE:20260718
DTEND;VALUE=DATE:20260719
DTSTAMP:20260423T115412
CREATED:20260412T094138Z
LAST-MODIFIED:20260412T094138Z
UID:3576-1784332800-1784419199@exoticcarmarketplace.com
SUMMARY:Keeneland Concours d’Elegance
DESCRIPTION:
URL:https://exoticcarmarketplace.com/event/keeneland-concours-delegance/
LOCATION:Keeneland\, Lexington\, KY\, United States
CATEGORIES:Concours
ATTACH;FMTTYPE=image/jpeg:https://exoticcarmarketplace.com/wp-content/uploads/2026/04/images5.jpg
END:VEVENT
BEGIN:VEVENT
DTSTART;VALUE=DATE:20260719
DTEND;VALUE=DATE:20260720
DTSTAMP:20260423T115412
CREATED:20260412T094355Z
LAST-MODIFIED:20260412T094355Z
UID:3580-1784419200-1784505599@exoticcarmarketplace.com
SUMMARY:Forest Grove Concours d’Elegance
DESCRIPTION:
URL:https://exoticcarmarketplace.com/event/forest-grove-concours-delegance/
LOCATION:Pacific University\, Forest Grove\, OR\, United States
CATEGORIES:Concours
ATTACH;FMTTYPE=image/jpeg:https://exoticcarmarketplace.com/wp-content/uploads/2026/04/dl.motorsportreg.jpg
END:VEVENT
BEGIN:VEVENT
DTSTART;VALUE=DATE:20260814
DTEND;VALUE=DATE:20260815
DTSTAMP:20260423T115412
CREATED:20260412T094534Z
LAST-MODIFIED:20260412T094534Z
UID:3584-1786665600-1786751999@exoticcarmarketplace.com
SUMMARY:The Quail\, A Motorsports Gathering
DESCRIPTION:
URL:https://exoticcarmarketplace.com/event/the-quail-a-motorsports-gathering/
LOCATION:The Quail\, Carmel\, CA\, United States
CATEGORIES:Concours
ATTACH;FMTTYPE=image/jpeg:https://exoticcarmarketplace.com/wp-content/uploads/2026/04/fde4be0cacf3dd5777dd3aede9c50c07_400x400.jpeg
END:VEVENT
BEGIN:VEVENT
DTSTART;VALUE=DATE:20260816
DTEND;VALUE=DATE:20260817
DTSTAMP:20260423T115412
CREATED:20260412T094707Z
LAST-MODIFIED:20260412T094707Z
UID:3588-1786838400-1786924799@exoticcarmarketplace.com
SUMMARY:Pebble Beach Concours d’Elegance
DESCRIPTION:
URL:https://exoticcarmarketplace.com/event/pebble-beach-concours-delegance/
LOCATION:The Lodge at Pebble Beach\, Pebble Beach\, United States
CATEGORIES:Concours
ATTACH;FMTTYPE=image/png:https://exoticcarmarketplace.com/wp-content/uploads/2026/04/PBCdE_Logo_RGB.png
END:VEVENT
BEGIN:VEVENT
DTSTART;VALUE=DATE:20260906
DTEND;VALUE=DATE:20260907
DTSTAMP:20260423T115412
CREATED:20260412T094850Z
LAST-MODIFIED:20260412T094850Z
UID:3592-1788652800-1788739199@exoticcarmarketplace.com
SUMMARY:Sunday in the Park\, The Lime Rock Park Concours
DESCRIPTION:
URL:https://exoticcarmarketplace.com/event/sunday-in-the-park-the-lime-rock-park-concours/
LOCATION:Lime Rock Park\, Lakeville\, CT\, United States
CATEGORIES:Concours
ATTACH;FMTTYPE=image/webp:https://exoticcarmarketplace.com/wp-content/uploads/2026/04/ghows-WL-307259994-Lime-Rock-Park.webp
END:VEVENT
BEGIN:VEVENT
DTSTART;VALUE=DATE:20260911
DTEND;VALUE=DATE:20260914
DTSTAMP:20260423T115412
CREATED:20260412T095016Z
LAST-MODIFIED:20260414T172135Z
UID:3596-1789084800-1789343999@exoticcarmarketplace.com
SUMMARY:Radnor Hunt Concours d’Elegance
DESCRIPTION:
URL:https://exoticcarmarketplace.com/event/radnor-hunt-concours-delegance/
LOCATION:Radnor Hunt Club\, Malvern\, PA\, United States
CATEGORIES:Concours
ATTACH;FMTTYPE=image/webp:https://exoticcarmarketplace.com/wp-content/uploads/2026/04/logo.webp
END:VEVENT
BEGIN:VEVENT
DTSTART;VALUE=DATE:20260913
DTEND;VALUE=DATE:20260914
DTSTAMP:20260423T115412
CREATED:20260412T095143Z
LAST-MODIFIED:20260412T095204Z
UID:3600-1789257600-1789343999@exoticcarmarketplace.com
SUMMARY:Des Moines Concours d’Elegance
DESCRIPTION:
URL:https://exoticcarmarketplace.com/event/des-moines-concours-delegance/
LOCATION:John and Mary Pappajohn Sculpture Park\, Des Moines\, IA\, United States
CATEGORIES:Concours
ATTACH;FMTTYPE=image/png:https://exoticcarmarketplace.com/wp-content/uploads/2026/04/images6.png
END:VEVENT
BEGIN:VEVENT
DTSTART;VALUE=DATE:20260918
DTEND;VALUE=DATE:20260921
DTSTAMP:20260423T115412
CREATED:20260412T095416Z
LAST-MODIFIED:20260412T095416Z
UID:3605-1789689600-1789948799@exoticcarmarketplace.com
SUMMARY:Cobble Beach Concours d’Elegance
DESCRIPTION:
URL:https://exoticcarmarketplace.com/event/cobble-beach-concours-delegance/
LOCATION:Cobble Beach Golf Resort Community\, Kemble\, Ontario\, Canada
CATEGORIES:Concours
ATTACH;FMTTYPE=image/jpeg:https://exoticcarmarketplace.com/wp-content/uploads/2026/04/dl.motorsportreg2.jpg
END:VEVENT
BEGIN:VEVENT
DTSTART;VALUE=DATE:20260919
DTEND;VALUE=DATE:20260920
DTSTAMP:20260423T115412
CREATED:20260412T095626Z
LAST-MODIFIED:20260412T095641Z
UID:3609-1789776000-1789862399@exoticcarmarketplace.com
SUMMARY:The Bridge
DESCRIPTION:
URL:https://exoticcarmarketplace.com/event/the-bridge/
LOCATION:The Bridge\, Bridgehampton\, NY\, United States
CATEGORIES:Concours
ATTACH;FMTTYPE=image/png:https://exoticcarmarketplace.com/wp-content/uploads/2026/04/images7.png
END:VEVENT
BEGIN:VEVENT
DTSTART;VALUE=DATE:20260925
DTEND;VALUE=DATE:20260928
DTSTAMP:20260423T115412
CREATED:20260412T095833Z
LAST-MODIFIED:20260414T172126Z
UID:3615-1790294400-1790553599@exoticcarmarketplace.com
SUMMARY:St. Michaels Concours d’Elegance on Chesapeake Bay
DESCRIPTION:
URL:https://exoticcarmarketplace.com/event/st-michaels-concours-delegance-on-chesapeake-bay/
LOCATION:Kent Island Yacht Club\, Chester\, MD\, United States
CATEGORIES:Concours
ATTACH;FMTTYPE=image/png:https://exoticcarmarketplace.com/wp-content/uploads/2026/04/st-michaels-concours-d-elegance-logo-2023.png
END:VEVENT
BEGIN:VEVENT
DTSTART;VALUE=DATE:20260926
DTEND;VALUE=DATE:20260927
DTSTAMP:20260423T115412
CREATED:20260412T100009Z
LAST-MODIFIED:20260412T100009Z
UID:3619-1790380800-1790467199@exoticcarmarketplace.com
SUMMARY:Ironstone Concours d’Elegance
DESCRIPTION:
URL:https://exoticcarmarketplace.com/event/ironstone-concours-delegance/
LOCATION:Ironstone Vineyards\, Murphys\, CA\, United States
CATEGORIES:Concours
ATTACH;FMTTYPE=image/png:https://exoticcarmarketplace.com/wp-content/uploads/2026/04/images8.png
END:VEVENT
BEGIN:VEVENT
DTSTART;VALUE=DATE:20261001
DTEND;VALUE=DATE:20261005
DTSTAMP:20260423T115412
CREATED:20260412T100147Z
LAST-MODIFIED:20260412T100147Z
UID:3623-1790812800-1791158399@exoticcarmarketplace.com
SUMMARY:Audrain Newport Concours & Motor Week
DESCRIPTION:
URL:https://exoticcarmarketplace.com/event/audrain-newport-concours-motor-week/
LOCATION:The Breakers\, Newport\, RI\, United States
CATEGORIES:Concours
ATTACH;FMTTYPE=image/webp:https://exoticcarmarketplace.com/wp-content/uploads/2026/04/oval-logo-27.webp
END:VEVENT
BEGIN:VEVENT
DTSTART;VALUE=DATE:20261011
DTEND;VALUE=DATE:20261012
DTSTAMP:20260423T115412
CREATED:20260412T100312Z
LAST-MODIFIED:20260412T100312Z
UID:3627-1791676800-1791763199@exoticcarmarketplace.com
SUMMARY:Bridlemont Concours at Highlands
DESCRIPTION:
URL:https://exoticcarmarketplace.com/event/bridlemont-concours-at-highlands/
LOCATION:Highlands\, Amenia\, NY\, United States
CATEGORIES:Concours
ATTACH;FMTTYPE=image/png:https://exoticcarmarketplace.com/wp-content/uploads/2026/04/images9.png
END:VEVENT
END:VCALENDAR