BEGIN:VCALENDAR
VERSION:2.0
PRODID:-//Exotic Car Marketplace - ECPv6.15.20//NONSGML v1.0//EN
CALSCALE:GREGORIAN
METHOD:PUBLISH
X-ORIGINAL-URL:https://exoticcarmarketplace.com
X-WR-CALDESC:Events for Exotic Car Marketplace
REFRESH-INTERVAL;VALUE=DURATION:PT1H
X-Robots-Tag:noindex
X-PUBLISHED-TTL:PT1H
BEGIN:VTIMEZONE
TZID:UTC
BEGIN:STANDARD
TZOFFSETFROM:+0000
TZOFFSETTO:+0000
TZNAME:UTC
DTSTART:20250101T000000
END:STANDARD
END:VTIMEZONE
BEGIN:VEVENT
DTSTART;VALUE=DATE:20260305
DTEND;VALUE=DATE:20260309
DTSTAMP:20260425T193526
CREATED:20260411T105235Z
LAST-MODIFIED:20260411T105235Z
UID:3491-1772668800-1773014399@exoticcarmarketplace.com
SUMMARY:The Amelia Concours
DESCRIPTION:
URL:https://exoticcarmarketplace.com/event/the-amelia-concours/
LOCATION:The Golf Club of Amelia Island\, Amelia Island\, FL\, United States
CATEGORIES:Concours
ATTACH;FMTTYPE=image/jpeg:https://exoticcarmarketplace.com/wp-content/uploads/2026/04/amelia_brand_logo_4x.jpg
END:VEVENT
BEGIN:VEVENT
DTSTART;VALUE=DATE:20260306
DTEND;VALUE=DATE:20260307
DTSTAMP:20260425T193526
CREATED:20260411T105832Z
LAST-MODIFIED:20260411T105832Z
UID:3499-1772755200-1772841599@exoticcarmarketplace.com
SUMMARY:The Classic Motorsports Amelia Island Kickoff
DESCRIPTION:
URL:https://exoticcarmarketplace.com/event/the-classic-motorsports-amelia-island-kickoff/
LOCATION:Main Beach Park\, Fernandina Beach\, FL\, United States
CATEGORIES:Concours
ATTACH;FMTTYPE=image/webp:https://exoticcarmarketplace.com/wp-content/uploads/2026/04/amelia-kickoff-logo-2023.webp
END:VEVENT
END:VCALENDAR