BEGIN:VCALENDAR
VERSION:2.0
PRODID:-//Exotic Car Marketplace - ECPv6.15.20//NONSGML v1.0//EN
CALSCALE:GREGORIAN
METHOD:PUBLISH
X-WR-CALNAME:Exotic Car Marketplace
X-ORIGINAL-URL:https://exoticcarmarketplace.com
X-WR-CALDESC:Events for Exotic Car Marketplace
REFRESH-INTERVAL;VALUE=DURATION:PT1H
X-Robots-Tag:noindex
X-PUBLISHED-TTL:PT1H
BEGIN:VTIMEZONE
TZID:UTC
BEGIN:STANDARD
TZOFFSETFROM:+0000
TZOFFSETTO:+0000
TZNAME:UTC
DTSTART:20250101T000000
END:STANDARD
END:VTIMEZONE
BEGIN:VEVENT
DTSTART;VALUE=DATE:20260906
DTEND;VALUE=DATE:20260907
DTSTAMP:20260426T012409
CREATED:20260412T094850Z
LAST-MODIFIED:20260412T094850Z
UID:3592-1788652800-1788739199@exoticcarmarketplace.com
SUMMARY:Sunday in the Park\, The Lime Rock Park Concours
DESCRIPTION:
URL:https://exoticcarmarketplace.com/event/sunday-in-the-park-the-lime-rock-park-concours/
LOCATION:Lime Rock Park\, Lakeville\, CT\, United States
CATEGORIES:Concours
ATTACH;FMTTYPE=image/webp:https://exoticcarmarketplace.com/wp-content/uploads/2026/04/ghows-WL-307259994-Lime-Rock-Park.webp
END:VEVENT
BEGIN:VEVENT
DTSTART;VALUE=DATE:20260911
DTEND;VALUE=DATE:20260914
DTSTAMP:20260426T012409
CREATED:20260412T095016Z
LAST-MODIFIED:20260414T172135Z
UID:3596-1789084800-1789343999@exoticcarmarketplace.com
SUMMARY:Radnor Hunt Concours d’Elegance
DESCRIPTION:
URL:https://exoticcarmarketplace.com/event/radnor-hunt-concours-delegance/
LOCATION:Radnor Hunt Club\, Malvern\, PA\, United States
CATEGORIES:Concours
ATTACH;FMTTYPE=image/webp:https://exoticcarmarketplace.com/wp-content/uploads/2026/04/logo.webp
END:VEVENT
BEGIN:VEVENT
DTSTART;VALUE=DATE:20260913
DTEND;VALUE=DATE:20260914
DTSTAMP:20260426T012409
CREATED:20260412T095143Z
LAST-MODIFIED:20260412T095204Z
UID:3600-1789257600-1789343999@exoticcarmarketplace.com
SUMMARY:Des Moines Concours d’Elegance
DESCRIPTION:
URL:https://exoticcarmarketplace.com/event/des-moines-concours-delegance/
LOCATION:John and Mary Pappajohn Sculpture Park\, Des Moines\, IA\, United States
CATEGORIES:Concours
ATTACH;FMTTYPE=image/png:https://exoticcarmarketplace.com/wp-content/uploads/2026/04/images6.png
END:VEVENT
BEGIN:VEVENT
DTSTART;VALUE=DATE:20260918
DTEND;VALUE=DATE:20260921
DTSTAMP:20260426T012409
CREATED:20260412T095416Z
LAST-MODIFIED:20260412T095416Z
UID:3605-1789689600-1789948799@exoticcarmarketplace.com
SUMMARY:Cobble Beach Concours d’Elegance
DESCRIPTION:
URL:https://exoticcarmarketplace.com/event/cobble-beach-concours-delegance/
LOCATION:Cobble Beach Golf Resort Community\, Kemble\, Ontario\, Canada
CATEGORIES:Concours
ATTACH;FMTTYPE=image/jpeg:https://exoticcarmarketplace.com/wp-content/uploads/2026/04/dl.motorsportreg2.jpg
END:VEVENT
BEGIN:VEVENT
DTSTART;VALUE=DATE:20260919
DTEND;VALUE=DATE:20260920
DTSTAMP:20260426T012409
CREATED:20260412T095626Z
LAST-MODIFIED:20260412T095641Z
UID:3609-1789776000-1789862399@exoticcarmarketplace.com
SUMMARY:The Bridge
DESCRIPTION:
URL:https://exoticcarmarketplace.com/event/the-bridge/
LOCATION:The Bridge\, Bridgehampton\, NY\, United States
CATEGORIES:Concours
ATTACH;FMTTYPE=image/png:https://exoticcarmarketplace.com/wp-content/uploads/2026/04/images7.png
END:VEVENT
BEGIN:VEVENT
DTSTART;VALUE=DATE:20260925
DTEND;VALUE=DATE:20260928
DTSTAMP:20260426T012409
CREATED:20260412T095833Z
LAST-MODIFIED:20260414T172126Z
UID:3615-1790294400-1790553599@exoticcarmarketplace.com
SUMMARY:St. Michaels Concours d’Elegance on Chesapeake Bay
DESCRIPTION:
URL:https://exoticcarmarketplace.com/event/st-michaels-concours-delegance-on-chesapeake-bay/
LOCATION:Kent Island Yacht Club\, Chester\, MD\, United States
CATEGORIES:Concours
ATTACH;FMTTYPE=image/png:https://exoticcarmarketplace.com/wp-content/uploads/2026/04/st-michaels-concours-d-elegance-logo-2023.png
END:VEVENT
BEGIN:VEVENT
DTSTART;VALUE=DATE:20260926
DTEND;VALUE=DATE:20260927
DTSTAMP:20260426T012409
CREATED:20260412T100009Z
LAST-MODIFIED:20260412T100009Z
UID:3619-1790380800-1790467199@exoticcarmarketplace.com
SUMMARY:Ironstone Concours d’Elegance
DESCRIPTION:
URL:https://exoticcarmarketplace.com/event/ironstone-concours-delegance/
LOCATION:Ironstone Vineyards\, Murphys\, CA\, United States
CATEGORIES:Concours
ATTACH;FMTTYPE=image/png:https://exoticcarmarketplace.com/wp-content/uploads/2026/04/images8.png
END:VEVENT
END:VCALENDAR