BEGIN:VCALENDAR
VERSION:2.0
PRODID:-//Exotic Car Marketplace - ECPv6.15.20//NONSGML v1.0//EN
CALSCALE:GREGORIAN
METHOD:PUBLISH
X-WR-CALNAME:Exotic Car Marketplace
X-ORIGINAL-URL:https://exoticcarmarketplace.com
X-WR-CALDESC:Events for Exotic Car Marketplace
REFRESH-INTERVAL;VALUE=DURATION:PT1H
X-Robots-Tag:noindex
X-PUBLISHED-TTL:PT1H
BEGIN:VTIMEZONE
TZID:UTC
BEGIN:STANDARD
TZOFFSETFROM:+0000
TZOFFSETTO:+0000
TZNAME:UTC
DTSTART:20250101T000000
END:STANDARD
END:VTIMEZONE
BEGIN:VEVENT
DTSTART;VALUE=DATE:20260611
DTEND;VALUE=DATE:20260615
DTSTAMP:20260425T224421
CREATED:20260412T092802Z
LAST-MODIFIED:20260414T172200Z
UID:3544-1781136000-1781481599@exoticcarmarketplace.com
SUMMARY:Highlands Motoring Festival
DESCRIPTION:
URL:https://exoticcarmarketplace.com/event/highlands-motoring-festival/
LOCATION:Kelsey-Hutchinson Founders Park\, Highlands\, NC\, United States
CATEGORIES:Concours
ATTACH;FMTTYPE=image/webp:https://exoticcarmarketplace.com/wp-content/uploads/2026/04/HMF-NEW-LOGO-With-Reg-No-LAYERS_-002.webp
END:VEVENT
END:VCALENDAR